BEGIN:VCALENDAR
VERSION:2.0
PRODID:-//horsealert.local//NONSGML kigkonsult.se iCalcreator 2.10.5//
CALSCALE:GREGORIAN
X-WR-TIMEZONE:Europe/Dublin
BEGIN:VTIMEZONE
TZID:Etc/GMT-1
BEGIN:STANDARD
DTSTART:20010101T000000
TZOFFSETFROM:+0100
TZOFFSETTO:+0100
TZNAME:GMT +01:00
END:STANDARD
END:VTIMEZONE
BEGIN:VEVENT
UID:20260423T053932CEST-9517w62FSz@horsealert.local
DTSTAMP:20260423T030432Z
CATEGORIES:Horse Alerts
DESCRIPTION:Dribuild Construction West Wales National (Handicap Chase)
DTSTART:20160206T151500
LOCATION:Wales
SUMMARY:Horse Racing:Dribuild Construction West Wales National (Handicap Ch
 ase)
END:VEVENT
END:VCALENDAR
