BEGIN:VCALENDAR
VERSION:2.0
PRODID:-//horsealert.local//NONSGML kigkonsult.se iCalcreator 2.10.5//
CALSCALE:GREGORIAN
X-WR-TIMEZONE:Europe/Dublin
BEGIN:VTIMEZONE
TZID:Etc/GMT-1
BEGIN:STANDARD
DTSTART:20010101T000000
TZOFFSETFROM:+0100
TZOFFSETTO:+0100
TZNAME:GMT +01:00
END:STANDARD
END:VTIMEZONE
BEGIN:VEVENT
UID:20260423T020757CEST-1738ohZd11@horsealert.local
DTSTAMP:20260423T000457Z
CATEGORIES:Horse Alerts
DESCRIPTION:Northern Area Point To Point Scottish Foxhunter Chase (Open Hun
 ters' Chase)
DTSTART:20160207T160000
LOCATION:Scotland
SUMMARY:Horse Racing:Northern Area Point To Point Scottish Foxhunter Chase 
 (Open Hunters' Chase)
END:VEVENT
END:VCALENDAR
