BEGIN:VCALENDAR
VERSION:2.0
PRODID:-//horsealert.local//NONSGML kigkonsult.se iCalcreator 2.10.5//
CALSCALE:GREGORIAN
X-WR-TIMEZONE:Europe/Dublin
BEGIN:VTIMEZONE
TZID:Etc/GMT-1
BEGIN:STANDARD
DTSTART:20010101T000000
TZOFFSETFROM:+0100
TZOFFSETTO:+0100
TZNAME:GMT +01:00
END:STANDARD
END:VTIMEZONE
BEGIN:VEVENT
UID:20260423T053832CEST-9618J3ADB1@horsealert.local
DTSTAMP:20260423T030432Z
CATEGORIES:Horse Alerts
DESCRIPTION:toteexacta Scottish Champion Chase (Handicap) (For The Bowes-Ly
 on Trophy)
DTSTART:20160207T133000
LOCATION:Scotland
SUMMARY:Horse Racing:toteexacta Scottish Champion Chase (Handicap) (For The
  Bowes-Lyon Trophy)
END:VEVENT
END:VCALENDAR
