BEGIN:VCALENDAR
VERSION:2.0
PRODID:-//horsealert.local//NONSGML kigkonsult.se iCalcreator 2.10.5//
CALSCALE:GREGORIAN
X-WR-TIMEZONE:Europe/Dublin
BEGIN:VTIMEZONE
TZID:Etc/GMT-1
BEGIN:STANDARD
DTSTART:20010101T000000
TZOFFSETFROM:+0100
TZOFFSETTO:+0100
TZNAME:GMT +01:00
END:STANDARD
END:VTIMEZONE
BEGIN:VEVENT
UID:20260423T035952CEST-73541bDTbP@horsealert.local
DTSTAMP:20260423T010452Z
CATEGORIES:Horse Alerts
DESCRIPTION:Download Titanbet Sports App Rated Race
DTSTART:20160205T200000
LOCATION:Eire
SUMMARY:Horse Racing:Download Titanbet Sports App Rated Race
END:VEVENT
END:VCALENDAR
