BEGIN:VCALENDAR
VERSION:2.0
PRODID:-//horsealert.local//NONSGML kigkonsult.se iCalcreator 2.10.5//
CALSCALE:GREGORIAN
X-WR-TIMEZONE:Europe/Dublin
BEGIN:VTIMEZONE
TZID:Etc/GMT-1
BEGIN:STANDARD
DTSTART:20010101T000000
TZOFFSETFROM:+0100
TZOFFSETTO:+0100
TZNAME:GMT +01:00
END:STANDARD
END:VTIMEZONE
BEGIN:VEVENT
UID:20260423T020918CEST-26043UAW1A@horsealert.local
DTSTAMP:20260423T000418Z
CATEGORIES:Horse Alerts
DESCRIPTION:32Red Handicap Chase
DTSTART:20160205T162000
LOCATION:Wales
SUMMARY:Horse Racing:32Red Handicap Chase
END:VEVENT
END:VCALENDAR
