BEGIN:VCALENDAR
VERSION:2.0
PRODID:-//horsealert.local//NONSGML kigkonsult.se iCalcreator 2.10.5//
CALSCALE:GREGORIAN
X-WR-TIMEZONE:Europe/Dublin
BEGIN:VTIMEZONE
TZID:Etc/GMT-1
BEGIN:STANDARD
DTSTART:20010101T000000
TZOFFSETFROM:+0100
TZOFFSETTO:+0100
TZNAME:GMT +01:00
END:STANDARD
END:VTIMEZONE
BEGIN:VEVENT
UID:20260423T020842CEST-4689VGUrlb@horsealert.local
DTSTAMP:20260423T000442Z
CATEGORIES:Horse Alerts
DESCRIPTION:blueribandbet.com 0800 014 7304 Telephone Betting Novices' Hand
 icap Chase
DTSTART:20160201T141000
LOCATION:England
SUMMARY:Horse Racing:blueribandbet.com 0800 014 7304 Telephone Betting Novi
 ces' Handicap Chase
END:VEVENT
END:VCALENDAR
