BEGIN:VCALENDAR
VERSION:2.0
PRODID:-//horsealert.local//NONSGML kigkonsult.se iCalcreator 2.10.5//
CALSCALE:GREGORIAN
X-WR-TIMEZONE:Europe/Dublin
BEGIN:VTIMEZONE
TZID:Etc/GMT-1
BEGIN:STANDARD
DTSTART:20010101T000000
TZOFFSETFROM:+0100
TZOFFSETTO:+0100
TZNAME:GMT +01:00
END:STANDARD
END:VTIMEZONE
BEGIN:VEVENT
UID:20260423T035246CEST-5693TKnPdD@horsealert.local
DTSTAMP:20260423T010446Z
CATEGORIES:Horse Alerts
DESCRIPTION:OLBG.com Mares' Hurdle (Grade 2) (Registered As The Doncaster M
 ares' Hurdle)
DTSTART:20160130T140500
LOCATION:England
SUMMARY:Horse Racing:OLBG.com Mares' Hurdle (Grade 2) (Registered As The Do
 ncaster Mares' Hurdle)
END:VEVENT
END:VCALENDAR
