BEGIN:VCALENDAR
VERSION:2.0
PRODID:-//horsealert.local//NONSGML kigkonsult.se iCalcreator 2.10.5//
CALSCALE:GREGORIAN
X-WR-TIMEZONE:Europe/Dublin
BEGIN:VTIMEZONE
TZID:Etc/GMT-1
BEGIN:STANDARD
DTSTART:20010101T000000
TZOFFSETFROM:+0100
TZOFFSETTO:+0100
TZNAME:GMT +01:00
END:STANDARD
END:VTIMEZONE
BEGIN:VEVENT
UID:20260423T035242CEST-4322Es4SeW@horsealert.local
DTSTAMP:20260423T010442Z
CATEGORIES:Horse Alerts
DESCRIPTION:Boylesports Irish Grand National March 28th Handicap Chase (0-1
 09)
DTSTART:20160130T143000
LOCATION:Eire
SUMMARY:Horse Racing:Boylesports Irish Grand National March 28th Handicap C
 hase (0-109)
END:VEVENT
END:VCALENDAR
