BEGIN:VCALENDAR
VERSION:2.0
PRODID:-//horsealert.local//NONSGML kigkonsult.se iCalcreator 2.10.5//
CALSCALE:GREGORIAN
X-WR-TIMEZONE:Europe/Dublin
BEGIN:VTIMEZONE
TZID:Etc/GMT-1
BEGIN:STANDARD
DTSTART:20010101T000000
TZOFFSETFROM:+0100
TZOFFSETTO:+0100
TZNAME:GMT +01:00
END:STANDARD
END:VTIMEZONE
BEGIN:VEVENT
UID:20260423T035221CEST-2270VrEk4K@horsealert.local
DTSTAMP:20260423T010421Z
CATEGORIES:Horse Alerts
DESCRIPTION:JCB Triumph Hurdle Trial (Juvenile Hurdle) (Registered As The F
 inesse Juvenile Hurdle) (Grade 2)
DTSTART:20160130T124000
LOCATION:England
SUMMARY:Horse Racing:JCB Triumph Hurdle Trial (Juvenile Hurdle) (Registered
  As The Finesse Juvenile Hurdle) (Grade 2)
END:VEVENT
END:VCALENDAR
