BEGIN:VCALENDAR
VERSION:2.0
PRODID:-//horsealert.local//NONSGML kigkonsult.se iCalcreator 2.10.5//
CALSCALE:GREGORIAN
X-WR-TIMEZONE:Europe/Dublin
BEGIN:VTIMEZONE
TZID:Etc/GMT-1
BEGIN:STANDARD
DTSTART:20010101T000000
TZOFFSETFROM:+0100
TZOFFSETTO:+0100
TZNAME:GMT +01:00
END:STANDARD
END:VTIMEZONE
BEGIN:VEVENT
UID:20260423T034625CEST-8750G9J5DT@horsealert.local
DTSTAMP:20260423T010425Z
CATEGORIES:Horse Alerts
DESCRIPTION:RacingUK HD Coming Soon 'National Hunt' Novices' Handicap Hurdl
 e
DTSTART:20160129T130000
LOCATION:England
SUMMARY:Horse Racing:RacingUK HD Coming Soon 'National Hunt' Novices' Handi
 cap Hurdle
END:VEVENT
END:VCALENDAR
