BEGIN:VCALENDAR
VERSION:2.0
PRODID:-//horsealert.local//NONSGML kigkonsult.se iCalcreator 2.10.5//
CALSCALE:GREGORIAN
X-WR-TIMEZONE:Europe/Dublin
BEGIN:VTIMEZONE
TZID:Etc/GMT-1
BEGIN:STANDARD
DTSTART:20010101T000000
TZOFFSETFROM:+0100
TZOFFSETTO:+0100
TZNAME:GMT +01:00
END:STANDARD
END:VTIMEZONE
BEGIN:VEVENT
UID:20260423T040044CEST-5464pJ7kLV@horsealert.local
DTSTAMP:20260423T020444Z
CATEGORIES:Horse Alerts
DESCRIPTION:Stella Artois Mares' Handicap Hurdle (Challenger Series Qualifi
 er)
DTSTART:20160127T155500
LOCATION:Wales
SUMMARY:Horse Racing:Stella Artois Mares' Handicap Hurdle (Challenger Serie
 s Qualifier)
END:VEVENT
END:VCALENDAR
