BEGIN:VCALENDAR
VERSION:2.0
PRODID:-//horsealert.local//NONSGML kigkonsult.se iCalcreator 2.10.5//
CALSCALE:GREGORIAN
X-WR-TIMEZONE:Europe/Dublin
BEGIN:VTIMEZONE
TZID:Etc/GMT-1
BEGIN:STANDARD
DTSTART:20010101T000000
TZOFFSETFROM:+0100
TZOFFSETTO:+0100
TZNAME:GMT +01:00
END:STANDARD
END:VTIMEZONE
BEGIN:VEVENT
UID:20260423T040103CEST-2707UVWuuC@horsealert.local
DTSTAMP:20260423T020403Z
CATEGORIES:Horse Alerts
DESCRIPTION:Yorton Farm Stud Mares' Handicap Hurdle (Qualifier For The Chal
 lenger Mares' Hurdle Series Final)
DTSTART:20160127T144500
LOCATION:Wales
SUMMARY:Horse Racing:Yorton Farm Stud Mares' Handicap Hurdle (Qualifier For
  The Challenger Mares' Hurdle Series Final)
END:VEVENT
END:VCALENDAR
