BEGIN:VCALENDAR
VERSION:2.0
PRODID:-//horsealert.local//NONSGML kigkonsult.se iCalcreator 2.10.5//
CALSCALE:GREGORIAN
X-WR-TIMEZONE:Europe/Dublin
BEGIN:VTIMEZONE
TZID:Etc/GMT-1
BEGIN:STANDARD
DTSTART:20010101T000000
TZOFFSETFROM:+0100
TZOFFSETTO:+0100
TZNAME:GMT +01:00
END:STANDARD
END:VTIMEZONE
BEGIN:VEVENT
UID:20260423T053714CEST-092033oOSa@horsealert.local
DTSTAMP:20260423T030414Z
CATEGORIES:Horse Alerts
DESCRIPTION:OLBG.com Mares' Hurdle (Grade 2) (Registered As The Warfield Ma
 res' Hurdle)
DTSTART:20160123T135000
LOCATION:England
SUMMARY:Horse Racing:OLBG.com Mares' Hurdle (Grade 2) (Registered As The Wa
 rfield Mares' Hurdle)
END:VEVENT
END:VCALENDAR
