BEGIN:VCALENDAR
VERSION:2.0
PRODID:-//horsealert.local//NONSGML kigkonsult.se iCalcreator 2.10.5//
CALSCALE:GREGORIAN
X-WR-TIMEZONE:Europe/Dublin
BEGIN:VTIMEZONE
TZID:Etc/GMT-1
BEGIN:STANDARD
DTSTART:20010101T000000
TZOFFSETFROM:+0100
TZOFFSETTO:+0100
TZNAME:GMT +01:00
END:STANDARD
END:VTIMEZONE
BEGIN:VEVENT
UID:20260423T035927CEST-2539XFv30G@horsealert.local
DTSTAMP:20260423T010427Z
CATEGORIES:Horse Alerts
DESCRIPTION:Nathaniel Lacy & Partners Solicitors '25\,000 Cheltenham Bonus 
 For Stable Staff' Novice Hurdle (Grade 2)
DTSTART:20160124T132000
LOCATION:Eire
SUMMARY:Horse Racing:Nathaniel Lacy & Partners Solicitors '25\,000 Cheltenh
 am Bonus For Stable Staff' Novice Hurdle (Grade 2)
END:VEVENT
END:VCALENDAR
