BEGIN:VCALENDAR
VERSION:2.0
PRODID:-//horsealert.local//NONSGML kigkonsult.se iCalcreator 2.10.5//
CALSCALE:GREGORIAN
X-WR-TIMEZONE:Europe/Dublin
BEGIN:VTIMEZONE
TZID:Etc/GMT-1
BEGIN:STANDARD
DTSTART:20010101T000000
TZOFFSETFROM:+0100
TZOFFSETTO:+0100
TZNAME:GMT +01:00
END:STANDARD
END:VTIMEZONE
BEGIN:VEVENT
UID:20260423T053917CEST-0118ASm45b@horsealert.local
DTSTAMP:20260423T030417Z
CATEGORIES:Horse Alerts
DESCRIPTION:Start Tomorrow racinguk.com/freetrial Intermediate NH Flat Race
  (Conditional Jockeys' And Amateur Riders')
DTSTART:20160121T161500
LOCATION:England
SUMMARY:Horse Racing:Start Tomorrow racinguk.com/freetrial Intermediate NH 
 Flat Race (Conditional Jockeys' And Amateur Riders')
END:VEVENT
END:VCALENDAR
