BEGIN:VCALENDAR
VERSION:2.0
PRODID:-//horsealert.local//NONSGML kigkonsult.se iCalcreator 2.10.5//
CALSCALE:GREGORIAN
X-WR-TIMEZONE:Europe/Dublin
BEGIN:VTIMEZONE
TZID:Etc/GMT-1
BEGIN:STANDARD
DTSTART:20010101T000000
TZOFFSETFROM:+0100
TZOFFSETTO:+0100
TZNAME:GMT +01:00
END:STANDARD
END:VTIMEZONE
BEGIN:VEVENT
UID:20260423T035907CEST-8301bEu2VK@horsealert.local
DTSTAMP:20260423T010407Z
CATEGORIES:Horse Alerts
DESCRIPTION:Betfred 'January Sale' British Stallion Studs EBF Mares' 'Natio
 nal Hunt' Novices' Hurdle
DTSTART:20160120T154500
LOCATION:England
SUMMARY:Horse Racing:Betfred 'January Sale' British Stallion Studs EBF Mare
 s' 'National Hunt' Novices' Hurdle
END:VEVENT
END:VCALENDAR
