BEGIN:VCALENDAR
VERSION:2.0
PRODID:-//horsealert.local//NONSGML kigkonsult.se iCalcreator 2.10.5//
CALSCALE:GREGORIAN
X-WR-TIMEZONE:Europe/Dublin
BEGIN:VTIMEZONE
TZID:Etc/GMT-1
BEGIN:STANDARD
DTSTART:20010101T000000
TZOFFSETFROM:+0100
TZOFFSETTO:+0100
TZNAME:GMT +01:00
END:STANDARD
END:VTIMEZONE
BEGIN:VEVENT
UID:20260423T053926CEST-3135GVzvaj@horsealert.local
DTSTAMP:20260423T030426Z
CATEGORIES:Horse Alerts
DESCRIPTION:ROA/Racing Post Owners Jackpot Conditional Jockeys' Handicap Ch
 ase
DTSTART:20160120T131000
LOCATION:Scotland
SUMMARY:Horse Racing:ROA/Racing Post Owners Jackpot Conditional Jockeys' Ha
 ndicap Chase
END:VEVENT
END:VCALENDAR
