BEGIN:VCALENDAR
VERSION:2.0
PRODID:-//horsealert.local//NONSGML kigkonsult.se iCalcreator 2.10.5//
CALSCALE:GREGORIAN
X-WR-TIMEZONE:Europe/Dublin
BEGIN:VTIMEZONE
TZID:Etc/GMT-1
BEGIN:STANDARD
DTSTART:20010101T000000
TZOFFSETFROM:+0100
TZOFFSETTO:+0100
TZNAME:GMT +01:00
END:STANDARD
END:VTIMEZONE
BEGIN:VEVENT
UID:20260423T040044CEST-7312rFkVzd@horsealert.local
DTSTAMP:20260423T020444Z
CATEGORIES:Horse Alerts
DESCRIPTION:Broadway & Horton Cricket Club 'National Hunt' Novices' Hurdle 
 (Div 2)
DTSTART:20160113T141000
LOCATION:England
SUMMARY:Horse Racing:Broadway & Horton Cricket Club 'National Hunt' Novices
 ' Hurdle (Div 2)
END:VEVENT
END:VCALENDAR
