BEGIN:VCALENDAR
VERSION:2.0
PRODID:-//horsealert.local//NONSGML kigkonsult.se iCalcreator 2.10.5//
CALSCALE:GREGORIAN
X-WR-TIMEZONE:Europe/Dublin
BEGIN:VTIMEZONE
TZID:Etc/GMT-1
BEGIN:STANDARD
DTSTART:20010101T000000
TZOFFSETFROM:+0100
TZOFFSETTO:+0100
TZNAME:GMT +01:00
END:STANDARD
END:VTIMEZONE
BEGIN:VEVENT
UID:20260423T034624CEST-3217ZCKkew@horsealert.local
DTSTAMP:20260423T010424Z
CATEGORIES:Horse Alerts
DESCRIPTION:coral.co.uk Money Back If Your Horse Falls Novices' Limited Han
 dicap Chase
DTSTART:20160109T145500
LOCATION:Wales
SUMMARY:Horse Racing:coral.co.uk Money Back If Your Horse Falls Novices' Li
 mited Handicap Chase
END:VEVENT
END:VCALENDAR
