BEGIN:VCALENDAR
VERSION:2.0
PRODID:-//horsealert.local//NONSGML kigkonsult.se iCalcreator 2.10.5//
CALSCALE:GREGORIAN
X-WR-TIMEZONE:Europe/Dublin
BEGIN:VTIMEZONE
TZID:Etc/GMT-1
BEGIN:STANDARD
DTSTART:20010101T000000
TZOFFSETFROM:+0100
TZOFFSETTO:+0100
TZNAME:GMT +01:00
END:STANDARD
END:VTIMEZONE
BEGIN:VEVENT
UID:20260423T052307CEST-89711EXgWF@horsealert.local
DTSTAMP:20260423T030407Z
CATEGORIES:Horse Alerts
DESCRIPTION:Haygain Hay Steamers Clean Healthy Forage Maiden Open NH Flat R
 ace
DTSTART:20160107T154000
LOCATION:England
SUMMARY:Horse Racing:Haygain Hay Steamers Clean Healthy Forage Maiden Open 
 NH Flat Race
END:VEVENT
END:VCALENDAR
