BEGIN:VCALENDAR
VERSION:2.0
PRODID:-//horsealert.local//NONSGML kigkonsult.se iCalcreator 2.10.5//
CALSCALE:GREGORIAN
X-WR-TIMEZONE:Europe/Dublin
BEGIN:VTIMEZONE
TZID:Etc/GMT-1
BEGIN:STANDARD
DTSTART:20010101T000000
TZOFFSETFROM:+0100
TZOFFSETTO:+0100
TZNAME:GMT +01:00
END:STANDARD
END:VTIMEZONE
BEGIN:VEVENT
UID:20260423T034604CEST-7060kVAv3I@horsealert.local
DTSTAMP:20260423T010404Z
CATEGORIES:Horse Alerts
DESCRIPTION:At The Races App On Android/EBF Stallions 'National Hunt' Novic
 es' Hurdle (Qualifier)
DTSTART:20160103T134000
LOCATION:England
SUMMARY:Horse Racing:At The Races App On Android/EBF Stallions 'National Hu
 nt' Novices' Hurdle (Qualifier)
END:VEVENT
END:VCALENDAR
