BEGIN:VCALENDAR
VERSION:2.0
PRODID:-//horsealert.local//NONSGML kigkonsult.se iCalcreator 2.10.5//
CALSCALE:GREGORIAN
X-WR-TIMEZONE:Europe/Dublin
BEGIN:VTIMEZONE
TZID:Etc/GMT-1
BEGIN:STANDARD
DTSTART:20010101T000000
TZOFFSETFROM:+0100
TZOFFSETTO:+0100
TZNAME:GMT +01:00
END:STANDARD
END:VTIMEZONE
BEGIN:VEVENT
UID:20260423T034622CEST-9262R6CebW@horsealert.local
DTSTAMP:20260423T010422Z
CATEGORIES:Horse Alerts
DESCRIPTION:Scoop6Soccer Results At totepoolliveinfo.com Conditions Stakes
DTSTART:20160102T141500
LOCATION:England
SUMMARY:Horse Racing:Scoop6Soccer Results At totepoolliveinfo.com Condition
 s Stakes
END:VEVENT
END:VCALENDAR
