BEGIN:VCALENDAR
VERSION:2.0
PRODID:-//horsealert.local//NONSGML kigkonsult.se iCalcreator 2.10.5//
CALSCALE:GREGORIAN
X-WR-TIMEZONE:Europe/Dublin
BEGIN:VTIMEZONE
TZID:Etc/GMT-1
BEGIN:STANDARD
DTSTART:20010101T000000
TZOFFSETFROM:+0100
TZOFFSETTO:+0100
TZNAME:GMT +01:00
END:STANDARD
END:VTIMEZONE
BEGIN:VEVENT
UID:20260423T035344CEST-4397xmEXs3@horsealert.local
DTSTAMP:20260423T010444Z
CATEGORIES:Horse Alerts
DESCRIPTION:Promote Your Business At Fairyhouse In 2016 Mares Maiden Hurdle
DTSTART:20160101T125000
LOCATION:Eire
SUMMARY:Horse Racing:Promote Your Business At Fairyhouse In 2016 Mares Maid
 en Hurdle
END:VEVENT
END:VCALENDAR
