BEGIN:VCALENDAR
VERSION:2.0
PRODID:-//horsealert.local//NONSGML kigkonsult.se iCalcreator 2.10.5//
CALSCALE:GREGORIAN
X-WR-TIMEZONE:Europe/Dublin
BEGIN:VTIMEZONE
TZID:Etc/GMT-1
BEGIN:STANDARD
DTSTART:20010101T000000
TZOFFSETFROM:+0100
TZOFFSETTO:+0100
TZNAME:GMT +01:00
END:STANDARD
END:VTIMEZONE
BEGIN:VEVENT
UID:20260423T053822CEST-4806m5Nuux@horsealert.local
DTSTAMP:20260423T030422Z
CATEGORIES:Horse Alerts
DESCRIPTION:Happy New Year From totepool Mares' Novices' Hurdle (Listed)
DTSTART:20151230T145000
LOCATION:England
SUMMARY:Horse Racing:Happy New Year From totepool Mares' Novices' Hurdle (L
 isted)
END:VEVENT
END:VCALENDAR
