BEGIN:VCALENDAR
VERSION:2.0
PRODID:-//horsealert.local//NONSGML kigkonsult.se iCalcreator 2.10.5//
CALSCALE:GREGORIAN
X-WR-TIMEZONE:Europe/Dublin
BEGIN:VTIMEZONE
TZID:Etc/GMT-1
BEGIN:STANDARD
DTSTART:20010101T000000
TZOFFSETFROM:+0100
TZOFFSETTO:+0100
TZNAME:GMT +01:00
END:STANDARD
END:VTIMEZONE
BEGIN:VEVENT
UID:20260423T053825CEST-4964pRwAWm@horsealert.local
DTSTAMP:20260423T030425Z
CATEGORIES:Horse Alerts
DESCRIPTION:Free Bet At 188Bet Conditional Jockeys' Handicap Hurdle
DTSTART:20151230T122000
LOCATION:England
SUMMARY:Horse Racing:Free Bet At 188Bet Conditional Jockeys' Handicap Hurdl
 e
END:VEVENT
END:VCALENDAR
