BEGIN:VCALENDAR
VERSION:2.0
PRODID:-//horsealert.local//NONSGML kigkonsult.se iCalcreator 2.10.5//
CALSCALE:GREGORIAN
X-WR-TIMEZONE:Europe/Dublin
BEGIN:VTIMEZONE
TZID:Etc/GMT-1
BEGIN:STANDARD
DTSTART:20010101T000000
TZOFFSETFROM:+0100
TZOFFSETTO:+0100
TZNAME:GMT +01:00
END:STANDARD
END:VTIMEZONE
BEGIN:VEVENT
UID:20260423T053903CEST-4295A7OXG0@horsealert.local
DTSTAMP:20260423T030403Z
CATEGORIES:Horse Alerts
DESCRIPTION:totequadpot Your Four Legged Friend Handicap
DTSTART:20151227T134000
LOCATION:England
SUMMARY:Horse Racing:totequadpot Your Four Legged Friend Handicap
END:VEVENT
END:VCALENDAR
