BEGIN:VCALENDAR
VERSION:2.0
PRODID:-//horsealert.local//NONSGML kigkonsult.se iCalcreator 2.10.5//
CALSCALE:GREGORIAN
X-WR-TIMEZONE:Europe/Dublin
BEGIN:VTIMEZONE
TZID:Etc/GMT-1
BEGIN:STANDARD
DTSTART:20010101T000000
TZOFFSETFROM:+0100
TZOFFSETTO:+0100
TZNAME:GMT +01:00
END:STANDARD
END:VTIMEZONE
BEGIN:VEVENT
UID:20260423T071658CEST-6889GzgUUA@horsealert.local
DTSTAMP:20260423T050458Z
CATEGORIES:Horse Alerts
DESCRIPTION:Paddy Power 'So Quick\, So Easy iPhone App' Chase (Grade 1)
DTSTART:20151227T131500
LOCATION:Eire
SUMMARY:Horse Racing:Paddy Power 'So Quick\, So Easy iPhone App' Chase (Gra
 de 1)
END:VEVENT
END:VCALENDAR
