BEGIN:VCALENDAR
VERSION:2.0
PRODID:-//horsealert.local//NONSGML kigkonsult.se iCalcreator 2.10.5//
CALSCALE:GREGORIAN
X-WR-TIMEZONE:Europe/Dublin
BEGIN:VTIMEZONE
TZID:Etc/GMT-1
BEGIN:STANDARD
DTSTART:20010101T000000
TZOFFSETFROM:+0100
TZOFFSETTO:+0100
TZNAME:GMT +01:00
END:STANDARD
END:VTIMEZONE
BEGIN:VEVENT
UID:20260423T054009CEST-5370mX7sXs@horsealert.local
DTSTAMP:20260423T030409Z
CATEGORIES:Horse Alerts
DESCRIPTION:Hansord & Helley Handicap Hurdle (Qualifier For The Challenger 
 Two Mile Hurdle Series Final)
DTSTART:20151226T152000
LOCATION:England
SUMMARY:Horse Racing:Hansord & Helley Handicap Hurdle (Qualifier For The Ch
 allenger Two Mile Hurdle Series Final)
END:VEVENT
END:VCALENDAR
