BEGIN:VCALENDAR
VERSION:2.0
PRODID:-//horsealert.local//NONSGML kigkonsult.se iCalcreator 2.10.5//
CALSCALE:GREGORIAN
X-WR-TIMEZONE:Europe/Dublin
BEGIN:VTIMEZONE
TZID:Etc/GMT-1
BEGIN:STANDARD
DTSTART:20010101T000000
TZOFFSETFROM:+0100
TZOFFSETTO:+0100
TZNAME:GMT +01:00
END:STANDARD
END:VTIMEZONE
BEGIN:VEVENT
UID:20260423T053900CEST-5372x4AUCO@horsealert.local
DTSTAMP:20260423T030400Z
CATEGORIES:Horse Alerts
DESCRIPTION:Castle Construction North East Ltd. Novices' Hurdle (Betfred Hu
 rdle Series Qualifier)
DTSTART:20151226T124000
LOCATION:England
SUMMARY:Horse Racing:Castle Construction North East Ltd. Novices' Hurdle (B
 etfred Hurdle Series Qualifier)
END:VEVENT
END:VCALENDAR
