BEGIN:VCALENDAR
VERSION:2.0
PRODID:-//horsealert.local//NONSGML kigkonsult.se iCalcreator 2.10.5//
CALSCALE:GREGORIAN
X-WR-TIMEZONE:Europe/Dublin
BEGIN:VTIMEZONE
TZID:Etc/GMT-1
BEGIN:STANDARD
DTSTART:20010101T000000
TZOFFSETFROM:+0100
TZOFFSETTO:+0100
TZNAME:GMT +01:00
END:STANDARD
END:VTIMEZONE
BEGIN:VEVENT
UID:20260423T053822CEST-20685guCPv@horsealert.local
DTSTAMP:20260423T030422Z
CATEGORIES:Horse Alerts
DESCRIPTION:Money Back 2nd At titanbet.co.uk Novices' Hurdle
DTSTART:20151221T124000
LOCATION:England
SUMMARY:Horse Racing:Money Back 2nd At titanbet.co.uk Novices' Hurdle
END:VEVENT
END:VCALENDAR
