BEGIN:VCALENDAR
VERSION:2.0
PRODID:-//horsealert.local//NONSGML kigkonsult.se iCalcreator 2.10.5//
CALSCALE:GREGORIAN
X-WR-TIMEZONE:Europe/Dublin
BEGIN:VTIMEZONE
TZID:Etc/GMT-1
BEGIN:STANDARD
DTSTART:20010101T000000
TZOFFSETFROM:+0100
TZOFFSETTO:+0100
TZNAME:GMT +01:00
END:STANDARD
END:VTIMEZONE
BEGIN:VEVENT
UID:20260423T071531CEST-4042O0mOuf@horsealert.local
DTSTAMP:20260423T050431Z
CATEGORIES:Horse Alerts
DESCRIPTION:Racing At Fakenham New Year's Day Handicap Hurdle
DTSTART:20151220T142000
LOCATION:England
SUMMARY:Horse Racing:Racing At Fakenham New Year's Day Handicap Hurdle
END:VEVENT
END:VCALENDAR
