BEGIN:VCALENDAR
VERSION:2.0
PRODID:-//horsealert.local//NONSGML kigkonsult.se iCalcreator 2.10.5//
CALSCALE:GREGORIAN
X-WR-TIMEZONE:Europe/Dublin
BEGIN:VTIMEZONE
TZID:Etc/GMT-1
BEGIN:STANDARD
DTSTART:20010101T000000
TZOFFSETFROM:+0100
TZOFFSETTO:+0100
TZNAME:GMT +01:00
END:STANDARD
END:VTIMEZONE
BEGIN:VEVENT
UID:20260423T053903CEST-09131606hE@horsealert.local
DTSTAMP:20260423T030403Z
CATEGORIES:Horse Alerts
DESCRIPTION:Kerry Group Stayers Novice Hurdle (Registered As The Cork Staye
 rs Novice Hurdle) (Grade 3)
DTSTART:20151219T130000
LOCATION:Eire
SUMMARY:Horse Racing:Kerry Group Stayers Novice Hurdle (Registered As The C
 ork Stayers Novice Hurdle) (Grade 3)
END:VEVENT
END:VCALENDAR
