BEGIN:VCALENDAR
VERSION:2.0
PRODID:-//horsealert.local//NONSGML kigkonsult.se iCalcreator 2.10.5//
CALSCALE:GREGORIAN
X-WR-TIMEZONE:Europe/Dublin
BEGIN:VTIMEZONE
TZID:Etc/GMT-1
BEGIN:STANDARD
DTSTART:20010101T000000
TZOFFSETFROM:+0100
TZOFFSETTO:+0100
TZNAME:GMT +01:00
END:STANDARD
END:VTIMEZONE
BEGIN:VEVENT
UID:20260423T054007CEST-7967rTS4OK@horsealert.local
DTSTAMP:20260423T030407Z
CATEGORIES:Horse Alerts
DESCRIPTION:32Red.com Irish Stallion Farms EBF Maiden Stakes
DTSTART:20151217T123000
LOCATION:England
SUMMARY:Horse Racing:32Red.com Irish Stallion Farms EBF Maiden Stakes
END:VEVENT
END:VCALENDAR
