BEGIN:VCALENDAR
VERSION:2.0
PRODID:-//horsealert.local//NONSGML kigkonsult.se iCalcreator 2.10.5//
CALSCALE:GREGORIAN
X-WR-TIMEZONE:Europe/Dublin
BEGIN:VTIMEZONE
TZID:Etc/GMT-1
BEGIN:STANDARD
DTSTART:20010101T000000
TZOFFSETFROM:+0100
TZOFFSETTO:+0100
TZNAME:GMT +01:00
END:STANDARD
END:VTIMEZONE
BEGIN:VEVENT
UID:20260423T054100CEST-38811ALBGD@horsealert.local
DTSTAMP:20260423T030400Z
CATEGORIES:Horse Alerts
DESCRIPTION:Alfa Aggregates Golden Spurs Handicap Hurdle (Qualifier For The
  Challenger Staying Hurdle Series Final)
DTSTART:20151211T144000
LOCATION:Wales
SUMMARY:Horse Racing:Alfa Aggregates Golden Spurs Handicap Hurdle (Qualifie
 r For The Challenger Staying Hurdle Series Final)
END:VEVENT
END:VCALENDAR
