BEGIN:VCALENDAR
VERSION:2.0
PRODID:-//horsealert.local//NONSGML kigkonsult.se iCalcreator 2.10.5//
CALSCALE:GREGORIAN
X-WR-TIMEZONE:Europe/Dublin
BEGIN:VTIMEZONE
TZID:Etc/GMT-1
BEGIN:STANDARD
DTSTART:20010101T000000
TZOFFSETFROM:+0100
TZOFFSETTO:+0100
TZNAME:GMT +01:00
END:STANDARD
END:VTIMEZONE
BEGIN:VEVENT
UID:20260423T054007CEST-3431MmivHB@horsealert.local
DTSTAMP:20260423T030407Z
CATEGORIES:Horse Alerts
DESCRIPTION:D.G. Pryde Ltd Handicap Hurdle (Qualifier For The Challenger Tw
 o Mile Hurdle Series Final)
DTSTART:20151206T130500
LOCATION:Scotland
SUMMARY:Horse Racing:D.G. Pryde Ltd Handicap Hurdle (Qualifier For The Chal
 lenger Two Mile Hurdle Series Final)
END:VEVENT
END:VCALENDAR
