BEGIN:VCALENDAR
VERSION:2.0
PRODID:-//horsealert.local//NONSGML kigkonsult.se iCalcreator 2.10.5//
CALSCALE:GREGORIAN
X-WR-TIMEZONE:Europe/Dublin
BEGIN:VTIMEZONE
TZID:Etc/GMT-1
BEGIN:STANDARD
DTSTART:20010101T000000
TZOFFSETFROM:+0100
TZOFFSETTO:+0100
TZNAME:GMT +01:00
END:STANDARD
END:VTIMEZONE
BEGIN:VEVENT
UID:20260423T054011CEST-6316Pnp1jr@horsealert.local
DTSTAMP:20260423T030411Z
CATEGORIES:Horse Alerts
DESCRIPTION:thebookiesoffers.co.uk Mares' Handicap Hurdle (Qualifier For Th
 e Challenger Mares' Hurdle Series Final)
DTSTART:20151205T124500
LOCATION:England
SUMMARY:Horse Racing:thebookiesoffers.co.uk Mares' Handicap Hurdle (Qualifi
 er For The Challenger Mares' Hurdle Series Final)
END:VEVENT
END:VCALENDAR
