BEGIN:VCALENDAR
VERSION:2.0
PRODID:-//horsealert.local//NONSGML kigkonsult.se iCalcreator 2.10.5//
CALSCALE:GREGORIAN
X-WR-TIMEZONE:Europe/Dublin
BEGIN:VTIMEZONE
TZID:Etc/GMT-1
BEGIN:STANDARD
DTSTART:20010101T000000
TZOFFSETFROM:+0100
TZOFFSETTO:+0100
TZNAME:GMT +01:00
END:STANDARD
END:VTIMEZONE
BEGIN:VEVENT
UID:20260423T054016CEST-5782hhUxjm@horsealert.local
DTSTAMP:20260423T030416Z
CATEGORIES:Horse Alerts
DESCRIPTION:Angela Nettlefold Memorial In Aid Of SSAFA Novices' Limited Han
 dicap Chase
DTSTART:20151205T132500
LOCATION:Wales
SUMMARY:Horse Racing:Angela Nettlefold Memorial In Aid Of SSAFA Novices' Li
 mited Handicap Chase
END:VEVENT
END:VCALENDAR
