BEGIN:VCALENDAR
VERSION:2.0
PRODID:-//horsealert.local//NONSGML kigkonsult.se iCalcreator 2.10.5//
CALSCALE:GREGORIAN
X-WR-TIMEZONE:Europe/Dublin
BEGIN:VTIMEZONE
TZID:Etc/GMT-1
BEGIN:STANDARD
DTSTART:20010101T000000
TZOFFSETFROM:+0100
TZOFFSETTO:+0100
TZNAME:GMT +01:00
END:STANDARD
END:VTIMEZONE
BEGIN:VEVENT
UID:20260423T054008CEST-7186JVzORk@horsealert.local
DTSTAMP:20260423T030408Z
CATEGORIES:Horse Alerts
DESCRIPTION:Coldunell Amateur Riders' Handicap Chase (For The John Dunsdon 
 Memorial Cup)
DTSTART:20151204T151000
LOCATION:England
SUMMARY:Horse Racing:Coldunell Amateur Riders' Handicap Chase (For The John
  Dunsdon Memorial Cup)
END:VEVENT
END:VCALENDAR
