BEGIN:VCALENDAR
VERSION:2.0
PRODID:-//horsealert.local//NONSGML kigkonsult.se iCalcreator 2.10.5//
CALSCALE:GREGORIAN
X-WR-TIMEZONE:Europe/Dublin
BEGIN:VTIMEZONE
TZID:Etc/GMT-1
BEGIN:STANDARD
DTSTART:20010101T000000
TZOFFSETFROM:+0100
TZOFFSETTO:+0100
TZNAME:GMT +01:00
END:STANDARD
END:VTIMEZONE
BEGIN:VEVENT
UID:20260423T053910CEST-1065TRhjA7@horsealert.local
DTSTAMP:20260423T030410Z
CATEGORIES:Horse Alerts
DESCRIPTION:Neptune Investment Management Novices' Hurdle (Grade 2) (Regist
 ered As The Winter Novices' Hurdle)
DTSTART:20151204T144000
LOCATION:England
SUMMARY:Horse Racing:Neptune Investment Management Novices' Hurdle (Grade 2
 ) (Registered As The Winter Novices' Hurdle)
END:VEVENT
END:VCALENDAR
