BEGIN:VCALENDAR
VERSION:2.0
PRODID:-//horsealert.local//NONSGML kigkonsult.se iCalcreator 2.10.5//
CALSCALE:GREGORIAN
X-WR-TIMEZONE:Europe/Dublin
BEGIN:VTIMEZONE
TZID:Etc/GMT-1
BEGIN:STANDARD
DTSTART:20010101T000000
TZOFFSETFROM:+0100
TZOFFSETTO:+0100
TZNAME:GMT +01:00
END:STANDARD
END:VTIMEZONE
BEGIN:VEVENT
UID:20260423T071728CEST-6565Gh7e0r@horsealert.local
DTSTAMP:20260423T050428Z
CATEGORIES:Horse Alerts
DESCRIPTION:Boyne Cup (Handicap Chase) (Qualifier For The Challenger Stayin
 g Chase Series Final)
DTSTART:20151202T141000
LOCATION:England
SUMMARY:Horse Racing:Boyne Cup (Handicap Chase) (Qualifier For The Challeng
 er Staying Chase Series Final)
END:VEVENT
END:VCALENDAR
