BEGIN:VCALENDAR
VERSION:2.0
PRODID:-//horsealert.local//NONSGML kigkonsult.se iCalcreator 2.10.5//
CALSCALE:GREGORIAN
X-WR-TIMEZONE:Europe/Dublin
BEGIN:VTIMEZONE
TZID:Etc/GMT-1
BEGIN:STANDARD
DTSTART:20010101T000000
TZOFFSETFROM:+0100
TZOFFSETTO:+0100
TZNAME:GMT +01:00
END:STANDARD
END:VTIMEZONE
BEGIN:VEVENT
UID:20260423T071310CEST-9860IJhIms@horsealert.local
DTSTAMP:20260423T050410Z
CATEGORIES:Horse Alerts
DESCRIPTION:Bar One Racing Porterstown Handicap Chase (0-140) (Grade C)
DTSTART:20151129T151000
LOCATION:Eire
SUMMARY:Horse Racing:Bar One Racing Porterstown Handicap Chase (0-140) (Gra
 de C)
END:VEVENT
END:VCALENDAR
