BEGIN:VCALENDAR
VERSION:2.0
PRODID:-//horsealert.local//NONSGML kigkonsult.se iCalcreator 2.10.5//
CALSCALE:GREGORIAN
X-WR-TIMEZONE:Europe/Dublin
BEGIN:VTIMEZONE
TZID:Etc/GMT-1
BEGIN:STANDARD
DTSTART:20010101T000000
TZOFFSETFROM:+0100
TZOFFSETTO:+0100
TZNAME:GMT +01:00
END:STANDARD
END:VTIMEZONE
BEGIN:VEVENT
UID:20260423T071636CEST-3372lSEvLW@horsealert.local
DTSTAMP:20260423T050436Z
CATEGORIES:Horse Alerts
DESCRIPTION:Betfred TV Conditional Jockeys' Novices' Hurdle (Betfred Hurdle
  Series Qualifier)
DTSTART:20151124T125000
LOCATION:England
SUMMARY:Horse Racing:Betfred TV Conditional Jockeys' Novices' Hurdle (Betfr
 ed Hurdle Series Qualifier)
END:VEVENT
END:VCALENDAR
