BEGIN:VCALENDAR
VERSION:2.0
PRODID:-//horsealert.local//NONSGML kigkonsult.se iCalcreator 2.10.5//
CALSCALE:GREGORIAN
X-WR-TIMEZONE:Europe/Dublin
BEGIN:VTIMEZONE
TZID:Etc/GMT-1
BEGIN:STANDARD
DTSTART:20010101T000000
TZOFFSETFROM:+0100
TZOFFSETTO:+0100
TZNAME:GMT +01:00
END:STANDARD
END:VTIMEZONE
BEGIN:VEVENT
UID:20260423T071752CEST-4631hs58LH@horsealert.local
DTSTAMP:20260423T050452Z
CATEGORIES:Horse Alerts
DESCRIPTION:Last Day Racing UK Free Trial Novices' Handicap Chase
DTSTART:20151123T145500
LOCATION:England
SUMMARY:Horse Racing:Last Day Racing UK Free Trial Novices' Handicap Chase
END:VEVENT
END:VCALENDAR
