BEGIN:VCALENDAR
VERSION:2.0
PRODID:-//horsealert.local//NONSGML kigkonsult.se iCalcreator 2.10.5//
CALSCALE:GREGORIAN
X-WR-TIMEZONE:Europe/Dublin
BEGIN:VTIMEZONE
TZID:Etc/GMT-1
BEGIN:STANDARD
DTSTART:20010101T000000
TZOFFSETFROM:+0100
TZOFFSETTO:+0100
TZNAME:GMT +01:00
END:STANDARD
END:VTIMEZONE
BEGIN:VEVENT
UID:20260423T071656CEST-9587eHIIWh@horsealert.local
DTSTAMP:20260423T050456Z
CATEGORIES:Horse Alerts
DESCRIPTION:Bradley Partnership Handicap Hurdle
DTSTART:20151123T151500
LOCATION:England
SUMMARY:Horse Racing:Bradley Partnership Handicap Hurdle
END:VEVENT
END:VCALENDAR
