BEGIN:VCALENDAR
VERSION:2.0
PRODID:-//horsealert.local//NONSGML kigkonsult.se iCalcreator 2.10.5//
CALSCALE:GREGORIAN
X-WR-TIMEZONE:Europe/Dublin
BEGIN:VTIMEZONE
TZID:Etc/GMT-1
BEGIN:STANDARD
DTSTART:20010101T000000
TZOFFSETFROM:+0100
TZOFFSETTO:+0100
TZNAME:GMT +01:00
END:STANDARD
END:VTIMEZONE
BEGIN:VEVENT
UID:20260423T071625CEST-8818pM6ZZp@horsealert.local
DTSTAMP:20260423T050425Z
CATEGORIES:Horse Alerts
DESCRIPTION:Wingate Signs Supports & Superjosh Charity 'Fixed Brush' 'Natio
 nal Hunt' Novices' Hurdle
DTSTART:20151120T150500
LOCATION:England
SUMMARY:Horse Racing:Wingate Signs Supports & Superjosh Charity 'Fixed Brus
 h' 'National Hunt' Novices' Hurdle
END:VEVENT
END:VCALENDAR
