BEGIN:VCALENDAR
VERSION:2.0
PRODID:-//horsealert.local//NONSGML kigkonsult.se iCalcreator 2.10.5//
CALSCALE:GREGORIAN
X-WR-TIMEZONE:Europe/Dublin
BEGIN:VTIMEZONE
TZID:Etc/GMT-1
BEGIN:STANDARD
DTSTART:20010101T000000
TZOFFSETFROM:+0100
TZOFFSETTO:+0100
TZNAME:GMT +01:00
END:STANDARD
END:VTIMEZONE
BEGIN:VEVENT
UID:20260423T071503CEST-0602UBnVLp@horsealert.local
DTSTAMP:20260423T050403Z
CATEGORIES:Horse Alerts
DESCRIPTION:Wincanton Racing Excellence 'Hands And Heels' Novices' Handicap
  Hurdle
DTSTART:20151119T160000
LOCATION:England
SUMMARY:Horse Racing:Wincanton Racing Excellence 'Hands And Heels' Novices'
  Handicap Hurdle
END:VEVENT
END:VCALENDAR
