BEGIN:VCALENDAR
VERSION:2.0
PRODID:-//horsealert.local//NONSGML kigkonsult.se iCalcreator 2.10.5//
CALSCALE:GREGORIAN
X-WR-TIMEZONE:Europe/Dublin
BEGIN:VTIMEZONE
TZID:Etc/GMT-1
BEGIN:STANDARD
DTSTART:20010101T000000
TZOFFSETFROM:+0100
TZOFFSETTO:+0100
TZNAME:GMT +01:00
END:STANDARD
END:VTIMEZONE
BEGIN:VEVENT
UID:20260423T071641CEST-17497VkR2X@horsealert.local
DTSTAMP:20260423T050441Z
CATEGORIES:Horse Alerts
DESCRIPTION:EBF Stallions/At The Races 'National Hunt' Novices' Hurdle (Qua
 lifier)
DTSTART:20151118T133000
LOCATION:England
SUMMARY:Horse Racing:EBF Stallions/At The Races 'National Hunt' Novices' Hu
 rdle (Qualifier)
END:VEVENT
END:VCALENDAR
