BEGIN:VCALENDAR
VERSION:2.0
PRODID:-//horsealert.local//NONSGML kigkonsult.se iCalcreator 2.10.5//
CALSCALE:GREGORIAN
X-WR-TIMEZONE:Europe/Dublin
BEGIN:VTIMEZONE
TZID:Etc/GMT-1
BEGIN:STANDARD
DTSTART:20010101T000000
TZOFFSETFROM:+0100
TZOFFSETTO:+0100
TZNAME:GMT +01:00
END:STANDARD
END:VTIMEZONE
BEGIN:VEVENT
UID:20260423T071659CEST-8660hlrmSX@horsealert.local
DTSTAMP:20260423T050459Z
CATEGORIES:Horse Alerts
DESCRIPTION:JCB Triumph Hurdle Trial (Grade 2) (Registered As The Prestbury
  Juvenile Hurdle)
DTSTART:20151114T124000
LOCATION:England
SUMMARY:Horse Racing:JCB Triumph Hurdle Trial (Grade 2) (Registered As The 
 Prestbury Juvenile Hurdle)
END:VEVENT
END:VCALENDAR
