BEGIN:VCALENDAR
VERSION:2.0
PRODID:-//horsealert.local//NONSGML kigkonsult.se iCalcreator 2.10.5//
CALSCALE:GREGORIAN
X-WR-TIMEZONE:Europe/Dublin
BEGIN:VTIMEZONE
TZID:Etc/GMT-1
BEGIN:STANDARD
DTSTART:20010101T000000
TZOFFSETFROM:+0100
TZOFFSETTO:+0100
TZNAME:GMT +01:00
END:STANDARD
END:VTIMEZONE
BEGIN:VEVENT
UID:20260423T071635CEST-1460Jdk7iZ@horsealert.local
DTSTAMP:20260423T050435Z
CATEGORIES:Horse Alerts
DESCRIPTION:Flynn & Lynch Life And Pensions Supporting Longford GAA Handica
 p Hurdle (80-123)
DTSTART:20151115T152000
LOCATION:Eire
SUMMARY:Horse Racing:Flynn & Lynch Life And Pensions Supporting Longford GA
 A Handicap Hurdle (80-123)
END:VEVENT
END:VCALENDAR
