BEGIN:VCALENDAR
VERSION:2.0
PRODID:-//horsealert.local//NONSGML kigkonsult.se iCalcreator 2.10.5//
CALSCALE:GREGORIAN
X-WR-TIMEZONE:Europe/Dublin
BEGIN:VTIMEZONE
TZID:Etc/GMT-1
BEGIN:STANDARD
DTSTART:20010101T000000
TZOFFSETFROM:+0100
TZOFFSETTO:+0100
TZNAME:GMT +01:00
END:STANDARD
END:VTIMEZONE
BEGIN:VEVENT
UID:20260423T071639CEST-8084FdKPLP@horsealert.local
DTSTAMP:20260423T050439Z
CATEGORIES:Horse Alerts
DESCRIPTION:Neptune Investment Management Novices' Hurdle (Registered As Th
 e Hyde Novices' Hurdle) (Grade 2)
DTSTART:20151113T141500
LOCATION:England
SUMMARY:Horse Racing:Neptune Investment Management Novices' Hurdle (Registe
 red As The Hyde Novices' Hurdle) (Grade 2)
END:VEVENT
END:VCALENDAR
